BEGIN:VCALENDAR
VERSION:2.0
PRODID:-//RH Privé - ECPv6.14.0//NONSGML v1.0//EN
CALSCALE:GREGORIAN
METHOD:PUBLISH
X-WR-CALNAME:RH Privé
X-ORIGINAL-URL:https://rhprive.com
X-WR-CALDESC:Eventos para RH Privé
REFRESH-INTERVAL;VALUE=DURATION:PT1H
X-Robots-Tag:noindex
X-PUBLISHED-TTL:PT1H
BEGIN:VTIMEZONE
TZID:Europe/Madrid
BEGIN:DAYLIGHT
TZOFFSETFROM:+0100
TZOFFSETTO:+0200
TZNAME:CEST
DTSTART:20260329T010000
END:DAYLIGHT
BEGIN:STANDARD
TZOFFSETFROM:+0200
TZOFFSETTO:+0100
TZNAME:CET
DTSTART:20261025T010000
END:STANDARD
END:VTIMEZONE
BEGIN:VEVENT
DTSTART;TZID=Europe/Madrid:20260429T000000
DTEND;TZID=Europe/Madrid:20260503T235900
DTSTAMP:20260424T143349
CREATED:20260327T135649Z
LAST-MODIFIED:20260423T082003Z
UID:17286-1777420800-1777852740@rhprive.com
SUMMARY:Feria internacional de los países 🛫
DESCRIPTION:La Feria Internacional de los Países de Fuengirola es un evento multicultural y festivo que celebra la diversidad cultural de más de 30 países a través de su gastronomía\, arte\, folclore y tradiciones. Se organiza en el Recinto Ferial de Fuengirola\, en Málaga (Andalucía)\, donde decenas de casetas representan a distintas naciones y ofrecen comida típica\, artesanía\, música en directo y actividades para toda la familia. La feria nació como un reflejo de la convivencia de muchas nacionalidades en la ciudad y permite “viajar” por diferentes culturas sin salir de Fuengirola.
URL:https://rhprive.com/event/feria-internacional-de-los-paises/
LOCATION:Av. Nuestro Padre Jesús Cautivo\, s/n\, 29640 Fuengirola\, Málaga\, Av. Federico García Lorca\, s/n\, Benalmadena\, Malaga\, 29630\, Spain
ATTACH;FMTTYPE=image/jpeg:https://rhprive.com/wp-content/uploads/2026/03/pueblos_Fuengirola.jpeg
END:VEVENT
BEGIN:VEVENT
DTSTART;VALUE=DATE:20260522
DTEND;VALUE=DATE:20260524
DTSTAMP:20260424T143349
CREATED:20260420T125834Z
LAST-MODIFIED:20260420T125958Z
UID:17400-1779408000-1779580799@rhprive.com
SUMMARY:Oh see! Málaga 🎉
DESCRIPTION:El Oh\, See! Málaga es un festival de música que se celebra cada primavera en Málaga\, normalmente durante dos días en el Auditorio Municipal Cortijo de Torres. Se centra en música indie y alternativa española\, con artistas conocidos y emergentes. Es un festival especialmente pensado para disfrutar en familia\, ya que los niños pueden asistir y hay espacios y actividades adaptadas para ellos. Además\, destaca por su ambiente cómodo y relajado\, con aforo limitado y zonas de ocio para todos los públicos. \n** Asegúrese de comprar las entradas antes de atender el evento. 
URL:https://rhprive.com/event/oh-see-malaga-%f0%9f%8e%89/
LOCATION:Auditorio municipal de Málaga\, Calle Paquiro\, 9\, Cruz de Humilladero\, 29006\, Spain
ATTACH;FMTTYPE=image/jpeg:https://rhprive.com/wp-content/uploads/2026/04/oh-see-festival-2026-1200x900-1.jpg
END:VEVENT
END:VCALENDAR